BEGIN:VCALENDAR
VERSION:2.0
BEGIN:VEVENT
UID:1771703b416ca3e73df99104c40507fe
SUMMARY:Strategisch bouwen aan een sterke sociale en digitale infrastructuur.
DTSTART;TZID=UTC:20260526T130000
DTEND;TZID=UTC:20260526T143000
LOCATION:https://meet.google.com/kpt-ppqm-cju
END:VEVENT
END:VCALENDAR