BEGIN:VCALENDAR
VERSION:2.0
BEGIN:VEVENT
UID:987a033b99f706128d4be119193f691d
SUMMARY:Digitale Tools\, echte verbinding: bouwen aan sociale cohesie
DTSTART;TZID=UTC:20260519T130000
DTEND;TZID=UTC:20260519T143000
LOCATION:
END:VEVENT
END:VCALENDAR