BEGIN:VCALENDAR
VERSION:2.0
BEGIN:VEVENT
UID:315fa7aa65304aa7e3d97e83b92f5fea
SUMMARY:Van zorg tot samenzijn: zo maak je een altijd actuele sociale kaart
DTSTART;TZID=UTC:20260507T073000
DTEND;TZID=UTC:20260507T090000
LOCATION:
END:VEVENT
END:VCALENDAR