BEGIN:VCALENDAR
VERSION:2.0
BEGIN:VEVENT
UID:c28958a52805830a707701e7080ce0ab
SUMMARY:Weerbare buurten: van 'Denk Vooruit' naar 'Samen Doen' in de praktijk
DTSTART;TZID=UTC:20260609T130000
DTEND;TZID=UTC:20260609T143000
LOCATION:
END:VEVENT
END:VCALENDAR