BEGIN:VCALENDAR
VERSION:2.0
BEGIN:VEVENT
UID:f6fcd41ad7140a48aa3cccb447c20275
SUMMARY:Hoe werkt de aanpak van mijnbuurtje.nl?
DTSTART;TZID=UTC:20260604T073000
DTEND;TZID=UTC:20260604T090000
LOCATION:
END:VEVENT
END:VCALENDAR